BEGIN:VCALENDAR
VERSION:2.0
PRODID:-//Just a chill room - ECPv6.0.13.1//NONSGML v1.0//EN
CALSCALE:GREGORIAN
METHOD:PUBLISH
X-WR-CALNAME:Just a chill room
X-ORIGINAL-URL:https://just-a-chill-room.net
X-WR-CALDESC:Events for Just a chill room
REFRESH-INTERVAL;VALUE=DURATION:PT1H
X-Robots-Tag:noindex
X-PUBLISHED-TTL:PT1H
BEGIN:VTIMEZONE
TZID:UTC
BEGIN:STANDARD
TZOFFSETFROM:+0000
TZOFFSETTO:+0000
TZNAME:UTC
DTSTART:20160101T000000
END:STANDARD
END:VTIMEZONE
BEGIN:VEVENT
DTSTART;TZID=UTC:20160131T200000
DTEND;TZID=UTC:20160131T210000
DTSTAMP:20260424T000937
CREATED:20160131T164821Z
LAST-MODIFIED:20160131T164955Z
UID:2585-1454270400-1454274000@just-a-chill-room.net
SUMMARY:Bevan - Exclusive EP Premiere
DESCRIPTION:  \nWe will welcome Bevan on Sunday 31st January at 8 PM UTC / 9 PM CET / 1 PM PDT for the exclusive showcase of his latest EP! Make sure to join us! \n\nSoundcloud – Facebook – Twitter – Bandcamp
URL:https://just-a-chill-room.net/event/2585/
CATEGORIES:Showcase
ATTACH;FMTTYPE=image/jpeg:https://just-a-chill-room.net/wp-content/uploads/2016/01/12637251_1118068214871263_59144182_o.jpg
END:VEVENT
END:VCALENDAR