BEGIN:VCALENDAR
VERSION:2.0
PRODID:-//Just a chill room - ECPv6.0.13.1//NONSGML v1.0//EN
CALSCALE:GREGORIAN
METHOD:PUBLISH
X-ORIGINAL-URL:https://just-a-chill-room.net
X-WR-CALDESC:Events for Just a chill room
REFRESH-INTERVAL;VALUE=DURATION:PT1H
X-Robots-Tag:noindex
X-PUBLISHED-TTL:PT1H
BEGIN:VTIMEZONE
TZID:UTC
BEGIN:STANDARD
TZOFFSETFROM:+0000
TZOFFSETTO:+0000
TZNAME:UTC
DTSTART:20150101T000000
END:STANDARD
END:VTIMEZONE
BEGIN:VEVENT
DTSTART;TZID=UTC:20150829T180000
DTEND;TZID=UTC:20150829T190000
DTSTAMP:20260424T082938
CREATED:20150828T123530Z
LAST-MODIFIED:20150828T123530Z
UID:2296-1440871200-1440874800@just-a-chill-room.net
SUMMARY:Album Showcase: Cobalt Rabbit - Into Oblivion
DESCRIPTION:Tomorrow we will host a showcase for Cobalt Rabbit‘s latest album “Into Oblivion”. \nJoin the room around 8.00 pm CEST / 2.00 pm EST and become immersed in the worlds of future garage\, triphop and ambient. \n\nInto Oblivion will be available from 29/8 on bandcamp \nSoundcloud \nItunes \nYoutube \n\n 
URL:https://just-a-chill-room.net/event/album-showcase-cobalt-rabbit-into-oblivion/
LOCATION:Just a chill room…
CATEGORIES:Showcase
ATTACH;FMTTYPE=image/jpeg:https://just-a-chill-room.net/wp-content/uploads/2015/08/cobalt-rabbit01.jpg
END:VEVENT
END:VCALENDAR