BEGIN:VCALENDAR
VERSION:2.0
PRODID:-//Just a chill room - ECPv6.0.13.1//NONSGML v1.0//EN
CALSCALE:GREGORIAN
METHOD:PUBLISH
X-ORIGINAL-URL:https://just-a-chill-room.net
X-WR-CALDESC:Events for Just a chill room
REFRESH-INTERVAL;VALUE=DURATION:PT1H
X-Robots-Tag:noindex
X-PUBLISHED-TTL:PT1H
BEGIN:VTIMEZONE
TZID:UTC
BEGIN:STANDARD
TZOFFSETFROM:+0000
TZOFFSETTO:+0000
TZNAME:UTC
DTSTART:20150101T000000
END:STANDARD
END:VTIMEZONE
BEGIN:VEVENT
DTSTART;TZID=UTC:20150823T200000
DTEND;TZID=UTC:20150823T210000
DTSTAMP:20260424T082945
CREATED:20150819T201258Z
LAST-MODIFIED:20150820T144422Z
UID:2269-1440360000-1440363600@just-a-chill-room.net
SUMMARY:EP Showcase: Alaskan Tapes - In Seperation and Isolation
DESCRIPTION:For most of you Alaskan Tapes\, formerly known as O S L O\,  isn’t a new name in the room. \nThis sunday\, August 23rd at 8.00 pm CEST / 2.00 pm EST\,  we will host a showcase of his latest EP ‘In Seperation and Isolation’. \nWe’d like to invite you all to join us and slow down your sunday. \n\nThe EP is available for ‘pay what you want’ on Bandcamp \nSoundcloud \nSpotify \n 
URL:https://just-a-chill-room.net/event/ep-showcase-alaskan-tapes-in-seperation-and-isolation/
LOCATION:Just a chill room…
CATEGORIES:Showcase
ATTACH;FMTTYPE=image/png:https://just-a-chill-room.net/wp-content/uploads/2015/08/alaskan_tapes-inseparationandisolation02.png
END:VEVENT
END:VCALENDAR