BEGIN:VCALENDAR
VERSION:2.0
PRODID:-//Just a chill room - ECPv6.0.13.1//NONSGML v1.0//EN
CALSCALE:GREGORIAN
METHOD:PUBLISH
X-WR-CALNAME:Just a chill room
X-ORIGINAL-URL:https://just-a-chill-room.net
X-WR-CALDESC:Events for Just a chill room
REFRESH-INTERVAL;VALUE=DURATION:PT1H
X-Robots-Tag:noindex
X-PUBLISHED-TTL:PT1H
BEGIN:VTIMEZONE
TZID:UTC
BEGIN:STANDARD
TZOFFSETFROM:+0000
TZOFFSETTO:+0000
TZNAME:UTC
DTSTART:20150101T000000
END:STANDARD
END:VTIMEZONE
BEGIN:VEVENT
DTSTART;TZID=UTC:20150818T200000
DTEND;TZID=UTC:20150818T210000
DTSTAMP:20260424T082815
CREATED:20150815T125916Z
LAST-MODIFIED:20150817T112339Z
UID:2261-1439928000-1439931600@just-a-chill-room.net
SUMMARY:Album Showcase: My Neighbour is - 3CoLoUrS
DESCRIPTION:We hope you’ve enjoyed our festivities during the past 3 weeks. We’ve had more than 80 artists play a mix/set and hundreds of people who came by to celebrate our 3 year existence with us! \nNow that everything is back to normal\, we’ll continue hosting showcases of known and unknown artists\, starting with ‘My Neighbour Is’. \nMy Neighbour Is\, also known as ‘Robot Needs Oil’\, will join us in Just a Chill Room on August 18th – 21.00 pm CEST / 3.00 pm EST –  to present his album ‘3CoLoUrs’\, which is heavily inspired by reggae\, funk\, drum ‘n bass\, and trap. \n\nSoundcloud \n3CoLoUrs is available for puchase on Bandcamp
URL:https://just-a-chill-room.net/event/album-showcase-my-neighbour-is-3colours/
LOCATION:Just a chill room…
CATEGORIES:Showcase
ATTACH;FMTTYPE=image/jpeg:https://just-a-chill-room.net/wp-content/uploads/2015/08/myneighboris_showcase01.jpg
END:VEVENT
END:VCALENDAR