BEGIN:VCALENDAR
VERSION:2.0
PRODID:-//Just a chill room - ECPv6.0.13.1//NONSGML v1.0//EN
CALSCALE:GREGORIAN
METHOD:PUBLISH
X-ORIGINAL-URL:https://just-a-chill-room.net
X-WR-CALDESC:Events for Just a chill room
REFRESH-INTERVAL;VALUE=DURATION:PT1H
X-Robots-Tag:noindex
X-PUBLISHED-TTL:PT1H
BEGIN:VTIMEZONE
TZID:UTC
BEGIN:STANDARD
TZOFFSETFROM:+0000
TZOFFSETTO:+0000
TZNAME:UTC
DTSTART:20150101T000000
END:STANDARD
END:VTIMEZONE
BEGIN:VEVENT
DTSTART;TZID=UTC:20150707T200000
DTEND;TZID=UTC:20150707T210000
DTSTAMP:20260424T100804
CREATED:20150706T215540Z
LAST-MODIFIED:20150707T060214Z
UID:2162-1436299200-1436302800@just-a-chill-room.net
SUMMARY:Album Showcase: Axel Thesleff - The Hollow Men
DESCRIPTION:On July 7th\, at 8.00 pm CEST / 11 am PDT\, we’re hosting a showcase for Axel Thesleff‘s – known for ‘Bad Karma’ and ‘Red Sun’ – latest album ‘The Hollow Men”. \nThis album is a musical interpretation of T.S. Eliot’s poem\, The Hollow Men. \nThe album consists of five parts and together form a single narrative. \nBandcamp \nSoundcloud
URL:https://just-a-chill-room.net/event/album-showcase-axel-thesleff/
LOCATION:Just a chill room…
CATEGORIES:Showcase
ATTACH;FMTTYPE=image/jpeg:https://just-a-chill-room.net/wp-content/uploads/2015/07/axelthesleff-albumshowcase01.jpg
END:VEVENT
END:VCALENDAR