BEGIN:VCALENDAR
VERSION:2.0
PRODID:-//Just a chill room - ECPv6.0.13.1//NONSGML v1.0//EN
CALSCALE:GREGORIAN
METHOD:PUBLISH
X-WR-CALNAME:Just a chill room
X-ORIGINAL-URL:https://just-a-chill-room.net
X-WR-CALDESC:Events for Just a chill room
REFRESH-INTERVAL;VALUE=DURATION:PT1H
X-Robots-Tag:noindex
X-PUBLISHED-TTL:PT1H
BEGIN:VTIMEZONE
TZID:UTC
BEGIN:STANDARD
TZOFFSETFROM:+0000
TZOFFSETTO:+0000
TZNAME:UTC
DTSTART:20150101T000000
END:STANDARD
END:VTIMEZONE
BEGIN:VEVENT
DTSTART;TZID=UTC:20150614T230000
DTEND;TZID=UTC:20150614T230000
DTSTAMP:20260424T112715
CREATED:20150528T223159Z
LAST-MODIFIED:20150528T223935Z
UID:2083-1434322800-1434322800@just-a-chill-room.net
SUMMARY:Album Showcase: Klrx - Beauty of the Now
DESCRIPTION:Having released multiple albums and EPs that were each notably successful\, Klrx is no stranger to the electronic music universe. Having teamed up with the likes of Koda and Electus\, but mostly releases self-made tracks\, he only has one direction to go; skyrocketing upwards. \n  \nOn June 14 at 7:00 PM EST\, join the members of JACR as Klrx debuts his new album\, Beauty of the Now! We hope to see you there!
URL:https://just-a-chill-room.net/event/album-showcase-klrx-beauty-of-the-now/
LOCATION:Just a chill room…
CATEGORIES:Showcase
ATTACH;FMTTYPE=image/png:https://just-a-chill-room.net/wp-content/uploads/2015/05/klrx.png
END:VEVENT
END:VCALENDAR