BEGIN:VCALENDAR
VERSION:2.0
PRODID:-//Just a chill room - ECPv6.0.13.1//NONSGML v1.0//EN
CALSCALE:GREGORIAN
METHOD:PUBLISH
X-WR-CALNAME:Just a chill room
X-ORIGINAL-URL:https://just-a-chill-room.net
X-WR-CALDESC:Events for Just a chill room
REFRESH-INTERVAL;VALUE=DURATION:PT1H
X-Robots-Tag:noindex
X-PUBLISHED-TTL:PT1H
BEGIN:VTIMEZONE
TZID:UTC
BEGIN:STANDARD
TZOFFSETFROM:+0000
TZOFFSETTO:+0000
TZNAME:UTC
DTSTART:20150101T000000
END:STANDARD
END:VTIMEZONE
BEGIN:VEVENT
DTSTART;TZID=UTC:20150608T190000
DTEND;TZID=UTC:20150608T200000
DTSTAMP:20260424T112635
CREATED:20150603T150502Z
LAST-MODIFIED:20150606T124030Z
UID:2094-1433790000-1433793600@just-a-chill-room.net
SUMMARY:EP Showcase: Lowercase Noises - James
DESCRIPTION:To celebrate the birth of his son – James – Lowercase Noises released an EP\, which he will be playing next monday\, June 8th\, at 7.00 pm CEST / 11.00 am MDT. \nAlbum available for download on Bandcamp \nDiscover more from Lowercase Noises: \nWebsite \nFacebook \nTwitter \n 
URL:https://just-a-chill-room.net/event/showcase-lowercase-noises/
LOCATION:Just a chill room…
CATEGORIES:Showcase
ATTACH;FMTTYPE=image/jpeg:https://just-a-chill-room.net/wp-content/uploads/2015/06/lowercasenoises-epshowcase02.jpg
END:VEVENT
END:VCALENDAR