BEGIN:VCALENDAR
VERSION:2.0
PRODID:-//Just a chill room - ECPv6.0.13.1//NONSGML v1.0//EN
CALSCALE:GREGORIAN
METHOD:PUBLISH
X-WR-CALNAME:Just a chill room
X-ORIGINAL-URL:https://just-a-chill-room.net
X-WR-CALDESC:Events for Just a chill room
REFRESH-INTERVAL;VALUE=DURATION:PT1H
X-Robots-Tag:noindex
X-PUBLISHED-TTL:PT1H
BEGIN:VTIMEZONE
TZID:UTC
BEGIN:STANDARD
TZOFFSETFROM:+0000
TZOFFSETTO:+0000
TZNAME:UTC
DTSTART:20150101T000000
END:STANDARD
END:VTIMEZONE
BEGIN:VEVENT
DTSTART;TZID=UTC:20150605T190000
DTEND;TZID=UTC:20150605T193000
DTSTAMP:20260424T112716
CREATED:20150528T221541Z
LAST-MODIFIED:20150602T120853Z
UID:2079-1433530800-1433532600@just-a-chill-room.net
SUMMARY:EP Showcase: A Cerulean State - Glimmering eyes and clouded skies
DESCRIPTION:With his description simply stating that he is a ‘lazy Swedish guy making music for imaginary movies’\, A Cerulean State has completely eclipsed many other artists in his genre. Focussing mostly on ambient and (more recently) modern classical\, his pieces speak to you without saying words… All you can do is listen as the music empties your mind… \n  \nOn June 5\, at 3:00 PM EST\, join us in welcoming A Cerulean State to our room as he plays his new EP\, Glimmering eyes and clouded skies! We would say you’d better be there\, but we already know that you will be… 😉 . \n  \nGlimmering eyes and and clouded skies in now available on bandcamp: http://bit.ly/1KBzfL1 \n 
URL:https://just-a-chill-room.net/event/showcase-a-cerulean-state/
LOCATION:Just a chill room…
CATEGORIES:Showcase
ATTACH;FMTTYPE=image/png:https://just-a-chill-room.net/wp-content/uploads/2015/05/a-cerulean-state.png
END:VEVENT
END:VCALENDAR