BEGIN:VCALENDAR
VERSION:2.0
PRODID:-//Just a chill room - ECPv6.0.13.1//NONSGML v1.0//EN
CALSCALE:GREGORIAN
METHOD:PUBLISH
X-WR-CALNAME:Just a chill room
X-ORIGINAL-URL:https://just-a-chill-room.net
X-WR-CALDESC:Events for Just a chill room
REFRESH-INTERVAL;VALUE=DURATION:PT1H
X-Robots-Tag:noindex
X-PUBLISHED-TTL:PT1H
BEGIN:VTIMEZONE
TZID:UTC
BEGIN:STANDARD
TZOFFSETFROM:+0000
TZOFFSETTO:+0000
TZNAME:UTC
DTSTART:20150101T000000
END:STANDARD
END:VTIMEZONE
BEGIN:VEVENT
DTSTART;TZID=UTC:20150601T190000
DTEND;TZID=UTC:20150601T210000
DTSTAMP:20260424T112634
CREATED:20150522T100624Z
LAST-MODIFIED:20150529T113543Z
UID:2064-1433185200-1433192400@just-a-chill-room.net
SUMMARY:Album Showcase: Andevour - Catharsis
DESCRIPTION:On June 1st\, we’ll welcome Andevour in our room to showcase his album ‘Catharsis’. \nSoundtrack creation\, especially down tempo\, being his forte (music jokes are hilarious)\, the quality and complexity of Andevour’s pieces put him as one of the most promising artists in the field. The diversity in his compositions makes each unique in its own way\, keeping you intrigued throughout. \n\n\nAndevour will start playing at 7.00 PM  UTC / 3.00 PM EST. \nAlbum available to download at Bandcamp. \nFacebook
URL:https://just-a-chill-room.net/event/album-showcase-andevour-catharsis/
LOCATION:Just a chill room…
CATEGORIES:Showcase
ATTACH;FMTTYPE=image/jpeg:https://just-a-chill-room.net/wp-content/uploads/2015/05/Catharsis-Showcase-Flyer.jpg
END:VEVENT
END:VCALENDAR