BEGIN:VCALENDAR
VERSION:2.0
PRODID:-//Just a chill room - ECPv6.0.13.1//NONSGML v1.0//EN
CALSCALE:GREGORIAN
METHOD:PUBLISH
X-WR-CALNAME:Just a chill room
X-ORIGINAL-URL:https://just-a-chill-room.net
X-WR-CALDESC:Events for Just a chill room
REFRESH-INTERVAL;VALUE=DURATION:PT1H
X-Robots-Tag:noindex
X-PUBLISHED-TTL:PT1H
BEGIN:VTIMEZONE
TZID:UTC
BEGIN:STANDARD
TZOFFSETFROM:+0000
TZOFFSETTO:+0000
TZNAME:UTC
DTSTART:20150101T000000
END:STANDARD
END:VTIMEZONE
BEGIN:VEVENT
DTSTART;TZID=UTC:20150527T180000
DTEND;TZID=UTC:20150527T190000
DTSTAMP:20260424T125838
CREATED:20150519T014305Z
LAST-MODIFIED:20150524T122843Z
UID:2037-1432749600-1432753200@just-a-chill-room.net
SUMMARY:Album Showcase: Arkasia - ETHEREALITY
DESCRIPTION:Best known for his songs ‘She’s The One’\, ‘Angel (feat. CoMa)’\, and ‘Pandemonium’ on MrSuicideSheep’s channel\, \nOn May 27th at 8:00pm CEST / 2:00pm EST\, Arkasia will be coming in to play his new album titled ‘ETHEREALITY’ released under Heavy Artillery Records \nETHEREALITY is now available on Beatport: http://btprt.dj/1R6Pv8E\niTunes: apple.co/1De7CjA\nSpotify: spoti.fi/1ce0YDt \n  \nhttps://www.facebook.com/ArkasiaConcept\nhttps://twitter.com/ArkasiaConcept\nhttps://soundcloud.com/arkasiaconcept\nhttp://www.heavyartilleryrecordings.com/
URL:https://just-a-chill-room.net/event/ep-showcase-arkasia-ethereality/
LOCATION:Just a chill room…
CATEGORIES:Showcase
ATTACH;FMTTYPE=image/png:https://just-a-chill-room.net/wp-content/uploads/2015/05/arkasia_1024.png
END:VEVENT
END:VCALENDAR