BEGIN:VCALENDAR
VERSION:2.0
PRODID:-//Just a chill room - ECPv6.0.13.1//NONSGML v1.0//EN
CALSCALE:GREGORIAN
METHOD:PUBLISH
X-ORIGINAL-URL:https://just-a-chill-room.net
X-WR-CALDESC:Events for Just a chill room
REFRESH-INTERVAL;VALUE=DURATION:PT1H
X-Robots-Tag:noindex
X-PUBLISHED-TTL:PT1H
BEGIN:VTIMEZONE
TZID:UTC
BEGIN:STANDARD
TZOFFSETFROM:+0000
TZOFFSETTO:+0000
TZNAME:UTC
DTSTART:20150101T000000
END:STANDARD
END:VTIMEZONE
BEGIN:VEVENT
DTSTART;TZID=UTC:20150519T170000
DTEND;TZID=UTC:20150519T180000
DTSTAMP:20260424T130047
CREATED:20150514T210815Z
LAST-MODIFIED:20150514T223609Z
UID:2019-1432054800-1432058400@just-a-chill-room.net
SUMMARY:EP Showcase Mix: Mt. Wolf - Red
DESCRIPTION:Known on such channels as MrSuicideSheep (for their song Red\, remixed by The Walton Hoax)\,  MORIndlie\, 17tumba\, and more! Mt. Wolf will be coming in to play an EP mix from their EP titled ‘Red’ on May 19th at 5:00pm UTC / 1:00pm EST. \n  \nRed is now available for purchase on iTunes: http://apple.co/1GNSJe9\nhttps://www.facebook.com/MtWolfOfficial\nhttps://twitter.com/MtWolfOfficial\nhttps://soundcloud.com/mtwolf
URL:https://just-a-chill-room.net/event/ep-showcase-mt-wolf-red/
LOCATION:Just a chill room…
CATEGORIES:Showcase
ATTACH;FMTTYPE=image/png:https://just-a-chill-room.net/wp-content/uploads/2015/05/mt_wolf_1024.png
END:VEVENT
END:VCALENDAR