BEGIN:VCALENDAR
VERSION:2.0
PRODID:-//Just a chill room - ECPv6.0.13.1//NONSGML v1.0//EN
CALSCALE:GREGORIAN
METHOD:PUBLISH
X-WR-CALNAME:Just a chill room
X-ORIGINAL-URL:https://just-a-chill-room.net
X-WR-CALDESC:Events for Just a chill room
REFRESH-INTERVAL;VALUE=DURATION:PT1H
X-Robots-Tag:noindex
X-PUBLISHED-TTL:PT1H
BEGIN:VTIMEZONE
TZID:UTC
BEGIN:STANDARD
TZOFFSETFROM:+0000
TZOFFSETTO:+0000
TZNAME:UTC
DTSTART:20150101T000000
END:STANDARD
END:VTIMEZONE
BEGIN:VEVENT
DTSTART;TZID=UTC:20150514T190000
DTEND;TZID=UTC:20150514T193000
DTSTAMP:20260424T125807
CREATED:20150510T113712Z
LAST-MODIFIED:20150510T113616Z
UID:2003-1431630000-1431631800@just-a-chill-room.net
SUMMARY:EP Showcase: AYER - In My Headphones
DESCRIPTION:Featured on MrSuicideSheep (Circle Down) and OneChilledPanda (Fight Your Fire)\, we have AYER coming in to showcase his new EP titled ‘In My Headphones’ on May 14th at 3:00pm EST/ 7:00pm GMT \n  \n“AYER is a Brooklyn based vocalist\, electronic recording and visual artist. The result of collaborations with an international roster of producers\, his recorded music and live full-band performances infuse nostalgic disco\, R&B and electro-pop. April 28th will mark the release of AYER’s independent debut six-track EP\, In My Headphones\, produced by Bram Inscore [Beck\, Devendra Banhart\, Sebastian Tellier\, Twin Shadow]” \n  \nIn My Headphones is now available on iTunes: http://apple.co/1GJAs1E
URL:https://just-a-chill-room.net/event/ep-showcase-ayer-in-my-headphones/
LOCATION:Just a chill room…
CATEGORIES:Showcase
ATTACH;FMTTYPE=image/png:https://just-a-chill-room.net/wp-content/uploads/2015/05/ayer_1024.png
END:VEVENT
END:VCALENDAR