BEGIN:VCALENDAR
VERSION:2.0
PRODID:-//Just a chill room - ECPv6.0.13.1//NONSGML v1.0//EN
CALSCALE:GREGORIAN
METHOD:PUBLISH
X-WR-CALNAME:Just a chill room
X-ORIGINAL-URL:https://just-a-chill-room.net
X-WR-CALDESC:Events for Just a chill room
REFRESH-INTERVAL;VALUE=DURATION:PT1H
X-Robots-Tag:noindex
X-PUBLISHED-TTL:PT1H
BEGIN:VTIMEZONE
TZID:UTC
BEGIN:STANDARD
TZOFFSETFROM:+0000
TZOFFSETTO:+0000
TZNAME:UTC
DTSTART:20150101T000000
END:STANDARD
END:VTIMEZONE
BEGIN:VEVENT
DTSTART;TZID=UTC:20150512T220000
DTEND;TZID=UTC:20150512T230000
DTSTAMP:20260424T125839
CREATED:20150507T124835Z
LAST-MODIFIED:20150507T140040Z
UID:1995-1431468000-1431471600@just-a-chill-room.net
SUMMARY:Album Showcase: Data Rebel - Reborn
DESCRIPTION:Next tuesday\, 12th of May\, we will host a showcase for Data Rebel’s latest album “Reborn”. \nHe will start playing around 10.00 PM CEST/4.00PM EST. \nThe album is already available for purchase on Bandcamp 
URL:https://just-a-chill-room.net/event/album-showcase-data-rebel-reborn/
LOCATION:Just a chill room…
CATEGORIES:Showcase
ATTACH;FMTTYPE=image/jpeg:https://just-a-chill-room.net/wp-content/uploads/2015/05/datarebel-ep-showcase03.jpg
END:VEVENT
END:VCALENDAR