BEGIN:VCALENDAR
VERSION:2.0
PRODID:-//Just a chill room - ECPv6.0.13.1//NONSGML v1.0//EN
CALSCALE:GREGORIAN
METHOD:PUBLISH
X-WR-CALNAME:Just a chill room
X-ORIGINAL-URL:https://just-a-chill-room.net
X-WR-CALDESC:Events for Just a chill room
REFRESH-INTERVAL;VALUE=DURATION:PT1H
X-Robots-Tag:noindex
X-PUBLISHED-TTL:PT1H
BEGIN:VTIMEZONE
TZID:UTC
BEGIN:STANDARD
TZOFFSETFROM:+0000
TZOFFSETTO:+0000
TZNAME:UTC
DTSTART:20150101T000000
END:STANDARD
END:VTIMEZONE
BEGIN:VEVENT
DTSTART;TZID=UTC:20150501T220000
DTEND;TZID=UTC:20150501T230000
DTSTAMP:20260424T125732
CREATED:20150427T053356Z
LAST-MODIFIED:20150507T141548Z
UID:1962-1430517600-1430521200@just-a-chill-room.net
SUMMARY:Yitaku "Snowflakes" EP Showcase
DESCRIPTION:On May 1st\, 6.00 PM EST /10.00 PM GMT\, we’ll welcome Yitaku with his second EP “Snowflakes”.
URL:https://just-a-chill-room.net/event/yitaku-snowflakes-ep-showcase/
LOCATION:Just a chill room…
CATEGORIES:Showcase
ATTACH;FMTTYPE=image/png:https://just-a-chill-room.net/wp-content/uploads/2015/04/yitaku.png
END:VEVENT
END:VCALENDAR