BEGIN:VCALENDAR
VERSION:2.0
PRODID:-//Just a chill room - ECPv6.0.13.1//NONSGML v1.0//EN
CALSCALE:GREGORIAN
METHOD:PUBLISH
X-ORIGINAL-URL:https://just-a-chill-room.net
X-WR-CALDESC:Events for Just a chill room
REFRESH-INTERVAL;VALUE=DURATION:PT1H
X-Robots-Tag:noindex
X-PUBLISHED-TTL:PT1H
BEGIN:VTIMEZONE
TZID:UTC
BEGIN:STANDARD
TZOFFSETFROM:+0000
TZOFFSETTO:+0000
TZNAME:UTC
DTSTART:20150101T000000
END:STANDARD
END:VTIMEZONE
BEGIN:VEVENT
DTSTART;TZID=UTC:20150417T200000
DTEND;TZID=UTC:20150417T210000
DTSTAMP:20260424T142659
CREATED:20150416T210233Z
LAST-MODIFIED:20150507T142541Z
UID:1911-1429300800-1429304400@just-a-chill-room.net
SUMMARY:Album Showcase Ikaros: Oishii Symphony
DESCRIPTION:Ikaros comes back to the room with his new album “Oishii Symphony” \nJoin us tomorrow at 1.00 pm PT/8.00 pm UTC to celebrate his release with us! \n 
URL:https://just-a-chill-room.net/event/album-showcase-ikaros-oishii-symphony/
LOCATION:Just a chill room…
CATEGORIES:Showcase
ATTACH;FMTTYPE=image/png:https://just-a-chill-room.net/wp-content/uploads/2015/04/flyer-ikaros.png
END:VEVENT
END:VCALENDAR