BEGIN:VCALENDAR
VERSION:2.0
PRODID:-//Just a chill room - ECPv6.0.13.1//NONSGML v1.0//EN
CALSCALE:GREGORIAN
METHOD:PUBLISH
X-ORIGINAL-URL:https://just-a-chill-room.net
X-WR-CALDESC:Events for Just a chill room
REFRESH-INTERVAL;VALUE=DURATION:PT1H
X-Robots-Tag:noindex
X-PUBLISHED-TTL:PT1H
BEGIN:VTIMEZONE
TZID:UTC
BEGIN:STANDARD
TZOFFSETFROM:+0000
TZOFFSETTO:+0000
TZNAME:UTC
DTSTART:20150101T000000
END:STANDARD
END:VTIMEZONE
BEGIN:VEVENT
DTSTART;TZID=UTC:20150415T160000
DTEND;TZID=UTC:20150415T170000
DTSTAMP:20260424T142721
CREATED:20150410T133039Z
LAST-MODIFIED:20150410T140715Z
UID:1872-1429113600-1429117200@just-a-chill-room.net
SUMMARY:Album Showcase: Mornings - Mornings
DESCRIPTION:Coming up\, we have someone who has been featured on OneChilledPanda (“Vermont”\, “Hold On”\, and most recently\, “Unkind”)\, he’s one of the chilliest producers out there\, and most importantly\, likes taking naps. Mornings will be dropping by to play his new album “Mornings” on April 15th at 12:00pm EST | 4:00pm GMT. \n 
URL:https://just-a-chill-room.net/event/album-showcase-mornings-mornings/
LOCATION:Just a chill room…
CATEGORIES:Showcase
ATTACH;FMTTYPE=image/png:https://just-a-chill-room.net/wp-content/uploads/2015/04/mornings.png
END:VEVENT
END:VCALENDAR