BEGIN:VCALENDAR
VERSION:2.0
PRODID:-//Just a chill room - ECPv6.0.13.1//NONSGML v1.0//EN
CALSCALE:GREGORIAN
METHOD:PUBLISH
X-ORIGINAL-URL:https://just-a-chill-room.net
X-WR-CALDESC:Events for Just a chill room
REFRESH-INTERVAL;VALUE=DURATION:PT1H
X-Robots-Tag:noindex
X-PUBLISHED-TTL:PT1H
BEGIN:VTIMEZONE
TZID:UTC
BEGIN:STANDARD
TZOFFSETFROM:+0000
TZOFFSETTO:+0000
TZNAME:UTC
DTSTART:20150101T000000
END:STANDARD
END:VTIMEZONE
BEGIN:VEVENT
DTSTART;TZID=UTC:20150101T043000
DTEND;TZID=UTC:20150101T043000
DTSTAMP:20260424T183257
CREATED:20141219T205129Z
LAST-MODIFIED:20141230T164759Z
UID:1261-1420086600-1420086600@just-a-chill-room.net
SUMMARY:Ethereal Records "Static Sorrow" Compilation Release Event
DESCRIPTION:Ethereal Records is showcasing it’s first compilation album “Static Sorrow”! Kick off the new year and join us for the release party on December 31\, 11:30pm EST / January 1\, 4:30am UCT/GMT
URL:https://just-a-chill-room.net/event/ethereal-records-static-sorrow-compilation-release-event/
LOCATION:Just a chill room…
CATEGORIES:Showcase
ATTACH;FMTTYPE=image/png:https://just-a-chill-room.net/wp-content/uploads/2014/12/StaticSorrow.png
END:VEVENT
END:VCALENDAR