BEGIN:VCALENDAR
VERSION:2.0
PRODID:-//Just a chill room - ECPv6.0.13.1//NONSGML v1.0//EN
CALSCALE:GREGORIAN
METHOD:PUBLISH
X-WR-CALNAME:Just a chill room
X-ORIGINAL-URL:https://just-a-chill-room.net
X-WR-CALDESC:Events for Just a chill room
REFRESH-INTERVAL;VALUE=DURATION:PT1H
X-Robots-Tag:noindex
X-PUBLISHED-TTL:PT1H
BEGIN:VTIMEZONE
TZID:UTC
BEGIN:STANDARD
TZOFFSETFROM:+0000
TZOFFSETTO:+0000
TZNAME:UTC
DTSTART:20140101T000000
END:STANDARD
END:VTIMEZONE
BEGIN:VEVENT
DTSTART;TZID=UTC:20141226T130000
DTEND;TZID=UTC:20141226T140000
DTSTAMP:20260424T193816
CREATED:20141226T091100Z
LAST-MODIFIED:20150119T201530Z
UID:1286-1419598800-1419602400@just-a-chill-room.net
SUMMARY:EP Showcase: Arkana - Genesis
DESCRIPTION:We have Arkana dropping by today to play his EP ‘Genesis’ in our room at 1:00pm PST / 9:00pm GMT. It’s gonna be a blast! \nArkana on Facebook – Soundcloud – Twitter – Youtube
URL:https://just-a-chill-room.net/event/ep-showcase-arkana-genesis/
LOCATION:Just a chill room…
CATEGORIES:Showcase
ATTACH;FMTTYPE=image/png:https://just-a-chill-room.net/wp-content/uploads/2014/12/arkana_1024.png
END:VEVENT
END:VCALENDAR