BEGIN:VCALENDAR
VERSION:2.0
PRODID:-//Just a chill room - ECPv6.0.13.1//NONSGML v1.0//EN
CALSCALE:GREGORIAN
METHOD:PUBLISH
X-ORIGINAL-URL:https://just-a-chill-room.net
X-WR-CALDESC:Events for Just a chill room
REFRESH-INTERVAL;VALUE=DURATION:PT1H
X-Robots-Tag:noindex
X-PUBLISHED-TTL:PT1H
BEGIN:VTIMEZONE
TZID:UTC
BEGIN:STANDARD
TZOFFSETFROM:+0000
TZOFFSETTO:+0000
TZNAME:UTC
DTSTART:20140101T000000
END:STANDARD
END:VTIMEZONE
BEGIN:VEVENT
DTSTART;TZID=UTC:20141221T210000
DTEND;TZID=UTC:20141221T220000
DTSTAMP:20260424T193907
CREATED:20141221T164250Z
LAST-MODIFIED:20141221T164746Z
UID:1271-1419195600-1419199200@just-a-chill-room.net
SUMMARY:Levi Patel - Forms EP Showcase
DESCRIPTION:At 9.00pm CET on 21 december\, Levi Patel will  showcase his EP ‘Forms’ and a few other songs. Come by and dream with us! \n  \nLevi Patel Soundcloud: https://soundcloud.com/levipatel
URL:https://just-a-chill-room.net/event/levi-patel-forms-ep-showcase/
LOCATION:Just a chill room…
CATEGORIES:Showcase
ATTACH;FMTTYPE=image/png:https://just-a-chill-room.net/wp-content/uploads/2014/12/Flyer-levipatel.png
END:VEVENT
END:VCALENDAR