BEGIN:VCALENDAR
VERSION:2.0
PRODID:-//Just a chill room - ECPv6.0.13.1//NONSGML v1.0//EN
CALSCALE:GREGORIAN
METHOD:PUBLISH
X-WR-CALNAME:Just a chill room
X-ORIGINAL-URL:https://just-a-chill-room.net
X-WR-CALDESC:Events for Just a chill room
REFRESH-INTERVAL;VALUE=DURATION:PT1H
X-Robots-Tag:noindex
X-PUBLISHED-TTL:PT1H
BEGIN:VTIMEZONE
TZID:UTC
BEGIN:STANDARD
TZOFFSETFROM:+0000
TZOFFSETTO:+0000
TZNAME:UTC
DTSTART:20140101T000000
END:STANDARD
END:VTIMEZONE
BEGIN:VEVENT
DTSTART;TZID=UTC:20141217T190000
DTEND;TZID=UTC:20141217T220000
DTSTAMP:20260424T193715
CREATED:20141216T182033Z
LAST-MODIFIED:20141217T220611Z
UID:1238-1418842800-1418853600@just-a-chill-room.net
SUMMARY:EP Release: Stay EP Release Party
DESCRIPTION:We hope you still find the time to join the amount of Showcases we host recently. I can assure you\, that you don’t want to miss this one featuring Elliot Berger\, SDDx\, Rous\, and  Mindset. \nSee you wednesday! \n  \nElliot Berger on Facebook – Soundcloud – Twitter – Bandcamp – Youtube  \n  \nSDDx on Facebook – Soundcloud – Twitter – Bandcamp – Youtube  \n  \nRous on Facebook – Soundcloud – Twitter – Youtube \n  \nMindset on Facebook – Soundcloud – Twitter – Youtube
URL:https://just-a-chill-room.net/event/ep-release-stay-ep-release-party/
LOCATION:Just a chill room…
CATEGORIES:Showcase
ATTACH;FMTTYPE=image/jpeg:https://just-a-chill-room.net/wp-content/uploads/2014/12/10750377_803359406390798_3315515392387981149_o.jpg
END:VEVENT
END:VCALENDAR