BEGIN:VCALENDAR
VERSION:2.0
PRODID:-//Just a chill room - ECPv6.0.13.1//NONSGML v1.0//EN
CALSCALE:GREGORIAN
METHOD:PUBLISH
X-WR-CALNAME:Just a chill room
X-ORIGINAL-URL:https://just-a-chill-room.net
X-WR-CALDESC:Events for Just a chill room
REFRESH-INTERVAL;VALUE=DURATION:PT1H
X-Robots-Tag:noindex
X-PUBLISHED-TTL:PT1H
BEGIN:VTIMEZONE
TZID:UTC
BEGIN:STANDARD
TZOFFSETFROM:+0000
TZOFFSETTO:+0000
TZNAME:UTC
DTSTART:20140101T000000
END:STANDARD
END:VTIMEZONE
BEGIN:VEVENT
DTSTART;TZID=UTC:20141214T180000
DTEND;TZID=UTC:20141214T190000
DTSTAMP:20260424T193334
CREATED:20141215T161549Z
LAST-MODIFIED:20141215T161549Z
UID:1218-1418580000-1418583600@just-a-chill-room.net
SUMMARY:Artist Showcase: Kasbo
DESCRIPTION:Kasbo will be showcasing an artist mix in our room on the 14th at 7:00pm GMT / 11:00am PST / 2:00pm EST! Don’t miss it! \nKasbo on Soundcloud – Facebook – Twitter –
URL:https://just-a-chill-room.net/event/artist-showcase-kasbo/
LOCATION:Just a chill room…
CATEGORIES:Showcase
ATTACH;FMTTYPE=image/jpeg:https://just-a-chill-room.net/wp-content/uploads/2014/12/10153625_485356628272515_6753447529313716240_n.jpg
END:VEVENT
END:VCALENDAR