BEGIN:VCALENDAR
VERSION:2.0
PRODID:-//Just a chill room - ECPv6.0.13.1//NONSGML v1.0//EN
CALSCALE:GREGORIAN
METHOD:PUBLISH
X-ORIGINAL-URL:https://just-a-chill-room.net
X-WR-CALDESC:Events for Just a chill room
REFRESH-INTERVAL;VALUE=DURATION:PT1H
X-Robots-Tag:noindex
X-PUBLISHED-TTL:PT1H
BEGIN:VTIMEZONE
TZID:UTC
BEGIN:STANDARD
TZOFFSETFROM:+0000
TZOFFSETTO:+0000
TZNAME:UTC
DTSTART:20140101T000000
END:STANDARD
END:VTIMEZONE
BEGIN:VEVENT
DTSTART;TZID=UTC:20141203T190000
DTEND;TZID=UTC:20141203T200000
DTSTAMP:20260424T194556
CREATED:20141215T161425Z
LAST-MODIFIED:20141215T161425Z
UID:1216-1417633200-1417636800@just-a-chill-room.net
SUMMARY:EP Showcase: Wreckage Machinery - WORLDS APART
DESCRIPTION:You’ve probably seen our next showcase artist in the room over the past few days. His drum & bass music has been featured on MrSuicideSheep\, 17tumba\, UKF\, and (of course) Liquicity\, but he also composes orchestral pieces. If that’s not awesome enough\, he co-founded “The Neurosphere Show”\, a drum & bass podcast series\, which he Co-Hosts with Xilent. \nWreckage Machinery will be showcasing his EP ‘WORLDS APART’ on December 3rd at 8:00pm CET / 11:00am PST. \n  \nWreckage Machinery on Soundcloud – Facebook – Twitter – Bandcamp – Youtube
URL:https://just-a-chill-room.net/event/ep-showcase-wreckage-machinery-worlds-apart/
CATEGORIES:Showcase
ATTACH;FMTTYPE=image/png:https://just-a-chill-room.net/wp-content/uploads/2014/11/wm-xl.png
END:VEVENT
END:VCALENDAR