BEGIN:VCALENDAR
VERSION:2.0
PRODID:-//Just a chill room - ECPv6.0.13.1//NONSGML v1.0//EN
CALSCALE:GREGORIAN
METHOD:PUBLISH
X-WR-CALNAME:Just a chill room
X-ORIGINAL-URL:https://just-a-chill-room.net
X-WR-CALDESC:Events for Just a chill room
REFRESH-INTERVAL;VALUE=DURATION:PT1H
X-Robots-Tag:noindex
X-PUBLISHED-TTL:PT1H
BEGIN:VTIMEZONE
TZID:UTC
BEGIN:STANDARD
TZOFFSETFROM:+0000
TZOFFSETTO:+0000
TZNAME:UTC
DTSTART:20140101T000000
END:STANDARD
END:VTIMEZONE
BEGIN:VEVENT
DTSTART;TZID=UTC:20141128T010000
DTEND;TZID=UTC:20141128T020000
DTSTAMP:20260424T205714
CREATED:20141215T161333Z
LAST-MODIFIED:20141215T161333Z
UID:1215-1417136400-1417140000@just-a-chill-room.net
SUMMARY:EP Showcase: Solar Heavy - Constellations
DESCRIPTION:He is passionate about music and has been producing for almost 4 years now. He spends his free time learning new sound design\, techniques\, promotional methods\, and networks with like-minded artists. \n  \nSolar Heavy will be showcasing his EP ‘Constellations’ on November 28th at 1:00am GMT / 5:00pm PST. Also\, he’s going to be bringing a few artists from Sheep’s channel along with him! \n  \nSolar Heavy on Facebook – Soundcloud – Twitter – Youtube – Bandcamp
URL:https://just-a-chill-room.net/event/ep-showcase-solar-heavy-constellations/
CATEGORIES:Showcase
ATTACH;FMTTYPE=image/png:https://just-a-chill-room.net/wp-content/uploads/2014/11/solarheavy.png
END:VEVENT
END:VCALENDAR