BEGIN:VCALENDAR
VERSION:2.0
PRODID:-//Just a chill room - ECPv6.0.13.1//NONSGML v1.0//EN
CALSCALE:GREGORIAN
METHOD:PUBLISH
X-ORIGINAL-URL:https://just-a-chill-room.net
X-WR-CALDESC:Events for Just a chill room
REFRESH-INTERVAL;VALUE=DURATION:PT1H
X-Robots-Tag:noindex
X-PUBLISHED-TTL:PT1H
BEGIN:VTIMEZONE
TZID:UTC
BEGIN:STANDARD
TZOFFSETFROM:+0000
TZOFFSETTO:+0000
TZNAME:UTC
DTSTART:20140101T000000
END:STANDARD
END:VTIMEZONE
BEGIN:VEVENT
DTSTART;TZID=UTC:20141126T190000
DTEND;TZID=UTC:20141126T200000
DTSTAMP:20260424T210001
CREATED:20141215T161235Z
LAST-MODIFIED:20141215T161655Z
UID:1214-1417028400-1417032000@just-a-chill-room.net
SUMMARY:EP Showcase: Noctilucent - Stars
DESCRIPTION:Next Wednesday one of our regular RDJ’s Noctilucent will be showing his latest work\, “Stars EP”. Come join us and have a chat at 8.00pm CET on 26/11. \n  \nNoctilucent on Soundcloud – Facebook – YouTube
URL:https://just-a-chill-room.net/event/ep-showcase-noctilucent-stars/
LOCATION:Just a chill room…
CATEGORIES:Showcase
ATTACH;FMTTYPE=image/png:https://just-a-chill-room.net/wp-content/uploads/2014/11/6576bc3e92816f7598a1190a31488380.png
END:VEVENT
END:VCALENDAR