BEGIN:VCALENDAR
VERSION:2.0
PRODID:-//Just a chill room - ECPv6.0.13.1//NONSGML v1.0//EN
CALSCALE:GREGORIAN
METHOD:PUBLISH
X-WR-CALNAME:Just a chill room
X-ORIGINAL-URL:https://just-a-chill-room.net
X-WR-CALDESC:Events for Just a chill room
REFRESH-INTERVAL;VALUE=DURATION:PT1H
X-Robots-Tag:noindex
X-PUBLISHED-TTL:PT1H
BEGIN:VTIMEZONE
TZID:UTC
BEGIN:STANDARD
TZOFFSETFROM:+0000
TZOFFSETTO:+0000
TZNAME:UTC
DTSTART:20140101T000000
END:STANDARD
END:VTIMEZONE
BEGIN:VEVENT
DTSTART;TZID=UTC:20141123T220000
DTEND;TZID=UTC:20141123T230000
DTSTAMP:20260424T205712
CREATED:20141215T161145Z
LAST-MODIFIED:20141215T161145Z
UID:1213-1416780000-1416783600@just-a-chill-room.net
SUMMARY:EP Showcase: The Eden Project - ENTRANCE
DESCRIPTION:We’re bringing you an artist from Dublin\, featured on Mrsucidesheep’s channel. Perhaps best known for his songs ‘Lost’\, ‘Chasing Ghosts’ and ‘Holdin’ On’\, The Eden Project will be showcasing his EP ‘ENTRANCE’ on Sunday November 23rd at 11:00pm GMT+1 / 2:00pm PDT \n  \nThe Eden Project on Facebook – Soundcloud – Twitter  – Youtube 
URL:https://just-a-chill-room.net/event/ep-showcase-the-eden-project-entrance/
LOCATION:Just a chill room…
CATEGORIES:Showcase
ATTACH;FMTTYPE=image/png:https://just-a-chill-room.net/wp-content/uploads/2014/11/edenproject.png
END:VEVENT
END:VCALENDAR