BEGIN:VCALENDAR
VERSION:2.0
PRODID:-//Just a chill room - ECPv6.0.13.1//NONSGML v1.0//EN
CALSCALE:GREGORIAN
METHOD:PUBLISH
X-WR-CALNAME:Just a chill room
X-ORIGINAL-URL:https://just-a-chill-room.net
X-WR-CALDESC:Events for Just a chill room
REFRESH-INTERVAL;VALUE=DURATION:PT1H
X-Robots-Tag:noindex
X-PUBLISHED-TTL:PT1H
BEGIN:VTIMEZONE
TZID:UTC
BEGIN:STANDARD
TZOFFSETFROM:+0000
TZOFFSETTO:+0000
TZNAME:UTC
DTSTART:20140101T000000
END:STANDARD
END:VTIMEZONE
BEGIN:VEVENT
DTSTART;TZID=UTC:20141116T190000
DTEND;TZID=UTC:20141116T200000
DTSTAMP:20260424T205713
CREATED:20141215T161006Z
LAST-MODIFIED:20141215T161006Z
UID:1211-1416164400-1416168000@just-a-chill-room.net
SUMMARY:Album Showcase: Ikaros イカロス - Tokyo Princess
DESCRIPTION:Come join us and welcome back Ikaros イカロス!!\nHe’s visiting us once more on November 16th at 6:30 PM CST or 12:30 AM GMT to showcase his newest release Tokyo Princess. \n  \nBe sure to come and hang out! \n  \nIkaros イカロス on Soundcloud – Facebook 
URL:https://just-a-chill-room.net/event/album-showcase-ikaros-%e3%82%a4%e3%82%ab%e3%83%ad%e3%82%b9-tokyo-princess/
LOCATION:Just a chill room…
CATEGORIES:Showcase
ATTACH;FMTTYPE=image/jpeg:https://just-a-chill-room.net/wp-content/uploads/2014/11/10603586_786450261415046_4970048473959744228_n.jpg
END:VEVENT
END:VCALENDAR