BEGIN:VCALENDAR
VERSION:2.0
PRODID:-//Just a chill room - ECPv6.0.13.1//NONSGML v1.0//EN
CALSCALE:GREGORIAN
METHOD:PUBLISH
X-ORIGINAL-URL:https://just-a-chill-room.net
X-WR-CALDESC:Events for Just a chill room
REFRESH-INTERVAL;VALUE=DURATION:PT1H
X-Robots-Tag:noindex
X-PUBLISHED-TTL:PT1H
BEGIN:VTIMEZONE
TZID:UTC
BEGIN:STANDARD
TZOFFSETFROM:+0000
TZOFFSETTO:+0000
TZNAME:UTC
DTSTART:20140101T000000
END:STANDARD
END:VTIMEZONE
BEGIN:VEVENT
DTSTART;TZID=UTC:20141106T180000
DTEND;TZID=UTC:20141106T190000
DTSTAMP:20260424T205839
CREATED:20141215T160804Z
LAST-MODIFIED:20141215T160804Z
UID:1210-1415296800-1415300400@just-a-chill-room.net
SUMMARY:EP Showcase: Poldoore - Transient
DESCRIPTION:This week we have a visit from an artist that was featured on Mrsuicidesheep’s channels.  Here’s a hint about our guest: He makes beats\, he makes hip hop\, and he will be showcasing his new EP for us in our room.  If you’re thinking what I’m thinking\, then you’re right! Poldoore will be showcasing his new EP ‘Transient’ in ‘just a chill room’ on November 6th at 7:00PM GMT + 1 / 10:00AM PDT. \n  \nPoldoore on Facebook – Twitter – Soundcloud – Bandcamp – Youtube 
URL:https://just-a-chill-room.net/event/ep-showcase-poldoore-transient/
LOCATION:Just a chill room…
CATEGORIES:Showcase
ATTACH;FMTTYPE=image/png:https://just-a-chill-room.net/wp-content/uploads/2014/11/pooldoore.png
END:VEVENT
END:VCALENDAR