BEGIN:VCALENDAR
VERSION:2.0
PRODID:-//Just a chill room - ECPv6.0.13.1//NONSGML v1.0//EN
CALSCALE:GREGORIAN
METHOD:PUBLISH
X-WR-CALNAME:Just a chill room
X-ORIGINAL-URL:https://just-a-chill-room.net
X-WR-CALDESC:Events for Just a chill room
REFRESH-INTERVAL;VALUE=DURATION:PT1H
X-Robots-Tag:noindex
X-PUBLISHED-TTL:PT1H
BEGIN:VTIMEZONE
TZID:UTC
BEGIN:STANDARD
TZOFFSETFROM:+0000
TZOFFSETTO:+0000
TZNAME:UTC
DTSTART:20140101T000000
END:STANDARD
END:VTIMEZONE
BEGIN:VEVENT
DTSTART;TZID=UTC:20140729T110000
DTEND;TZID=UTC:20140729T235500
DTSTAMP:20260425T004848
CREATED:20141215T160005Z
LAST-MODIFIED:20141215T160005Z
UID:1201-1406631600-1406678100@just-a-chill-room.net
SUMMARY:29th July - NYTE EP Showcase
DESCRIPTION:On July 29th at 7 P.M. EDT (11P.M. GMT/UTC) NYTE will showcase his brand new EP “Beyond the Sky” in our room! CMA will also play a set after! Make sure to join and have a nice time with us!
URL:https://just-a-chill-room.net/event/29th-july-nyte-ep-showcase/
LOCATION:Just a chill room…
CATEGORIES:Showcase
ATTACH;FMTTYPE=image/jpeg:https://just-a-chill-room.net/wp-content/uploads/2014/07/Beyond-the-Sky-EP.jpg
END:VEVENT
END:VCALENDAR