BEGIN:VCALENDAR
VERSION:2.0
PRODID:-//Just a chill room - ECPv6.0.13.1//NONSGML v1.0//EN
CALSCALE:GREGORIAN
METHOD:PUBLISH
X-ORIGINAL-URL:https://just-a-chill-room.net
X-WR-CALDESC:Events for Just a chill room
REFRESH-INTERVAL;VALUE=DURATION:PT1H
X-Robots-Tag:noindex
X-PUBLISHED-TTL:PT1H
BEGIN:VTIMEZONE
TZID:UTC
BEGIN:STANDARD
TZOFFSETFROM:+0000
TZOFFSETTO:+0000
TZNAME:UTC
DTSTART:20140101T000000
END:STANDARD
END:VTIMEZONE
BEGIN:VEVENT
DTSTART;TZID=UTC:20140705T130000
DTEND;TZID=UTC:20140705T140000
DTSTAMP:20260425T020233
CREATED:20141215T155657Z
LAST-MODIFIED:20141215T155657Z
UID:1198-1404565200-1404568800@just-a-chill-room.net
SUMMARY:Psymbionic - Digital Album Release Party
DESCRIPTION:Come and visit us in the chill room for Psymbionic´s digital album release party! \nIf you missed the event\, we’ve created a post with the full track list.
URL:https://just-a-chill-room.net/event/psymbionic-digital-album-release-party/
LOCATION:Just a chill room…
CATEGORIES:Showcase
ATTACH;FMTTYPE=image/jpeg:https://just-a-chill-room.net/wp-content/uploads/2014/07/PsymbionicReleasePartyPlugDJ.jpg
END:VEVENT
END:VCALENDAR