BEGIN:VCALENDAR
VERSION:2.0
PRODID:-//Just a chill room - ECPv6.0.13.1//NONSGML v1.0//EN
CALSCALE:GREGORIAN
METHOD:PUBLISH
X-ORIGINAL-URL:https://just-a-chill-room.net
X-WR-CALDESC:Events for Just a chill room
REFRESH-INTERVAL;VALUE=DURATION:PT1H
X-Robots-Tag:noindex
X-PUBLISHED-TTL:PT1H
BEGIN:VTIMEZONE
TZID:UTC
BEGIN:STANDARD
TZOFFSETFROM:+0000
TZOFFSETTO:+0000
TZNAME:UTC
DTSTART:20140101T000000
END:STANDARD
END:VTIMEZONE
BEGIN:VEVENT
DTSTART;TZID=UTC:20140531T200000
DTEND;TZID=UTC:20140531T210000
DTSTAMP:20260425T031659
CREATED:20141215T155320Z
LAST-MODIFIED:20141215T155320Z
UID:1195-1401566400-1401570000@just-a-chill-room.net
SUMMARY:Resonata - Full Circle EP Release
DESCRIPTION:Tomorrow\, 31/05\, at 12:00pm PST (9:00pm / 21:00 GMT+2)\, we will be hosting a showcase for Resonata’s latest EP ‘Full Circle’. Resonata will also be bringing a special guest with him.
URL:https://just-a-chill-room.net/event/resonata-full-circle-ep-release/
LOCATION:Just a chill room…
CATEGORIES:Showcase
ATTACH;FMTTYPE=image/jpeg:https://just-a-chill-room.net/wp-content/uploads/2014/07/10295487_700274023366004_1071422573551653818_o.jpg
END:VEVENT
END:VCALENDAR