BEGIN:VCALENDAR
VERSION:2.0
PRODID:-//Just a chill room - ECPv6.0.13.1//NONSGML v1.0//EN
CALSCALE:GREGORIAN
METHOD:PUBLISH
X-WR-CALNAME:Just a chill room
X-ORIGINAL-URL:https://just-a-chill-room.net
X-WR-CALDESC:Events for Just a chill room
REFRESH-INTERVAL;VALUE=DURATION:PT1H
X-Robots-Tag:noindex
X-PUBLISHED-TTL:PT1H
BEGIN:VTIMEZONE
TZID:UTC
BEGIN:STANDARD
TZOFFSETFROM:+0000
TZOFFSETTO:+0000
TZNAME:UTC
DTSTART:20130101T000000
END:STANDARD
END:VTIMEZONE
BEGIN:VEVENT
DTSTART;TZID=UTC:20130910T200000
DTEND;TZID=UTC:20130910T210000
DTSTAMP:20260425T155437
CREATED:20141215T153706Z
LAST-MODIFIED:20141215T153706Z
UID:1182-1378843200-1378846800@just-a-chill-room.net
SUMMARY:Ikaros – The Eddington Limit EP Release
DESCRIPTION:
URL:https://just-a-chill-room.net/event/ikaros-the-eddington-limit-ep-release/
LOCATION:Just a chill room…
CATEGORIES:Showcase
ATTACH;FMTTYPE=image/jpeg:https://just-a-chill-room.net/wp-content/uploads/2014/07/ikaros.jpg
END:VEVENT
END:VCALENDAR