BEGIN:VCALENDAR
VERSION:2.0
PRODID:-//Just a chill room - ECPv6.0.13.1//NONSGML v1.0//EN
CALSCALE:GREGORIAN
METHOD:PUBLISH
X-WR-CALNAME:Just a chill room
X-ORIGINAL-URL:https://just-a-chill-room.net
X-WR-CALDESC:Events for Just a chill room
REFRESH-INTERVAL;VALUE=DURATION:PT1H
X-Robots-Tag:noindex
X-PUBLISHED-TTL:PT1H
BEGIN:VTIMEZONE
TZID:UTC
BEGIN:STANDARD
TZOFFSETFROM:+0000
TZOFFSETTO:+0000
TZNAME:UTC
DTSTART:20160101T000000
END:STANDARD
END:VTIMEZONE
BEGIN:VEVENT
DTSTART;TZID=UTC:20160905T200000
DTEND;TZID=UTC:20160905T210000
DTSTAMP:20260423T101559
CREATED:20160905T093211Z
LAST-MODIFIED:20160905T093331Z
UID:2945-1473105600-1473109200@just-a-chill-room.net
SUMMARY:Album Showcase: Neo Geo
DESCRIPTION:Visit us on September the 5th at 6pm UTC (8pm CEST\, 11am PDT) for a showcase of Neo Geo’s new album “Different Roads Towards Common Goals“.
URL:https://just-a-chill-room.net/event/album-showcase-neo-geo/
LOCATION:Just a chill room
CATEGORIES:Showcase
ATTACH;FMTTYPE=image/jpeg:https://just-a-chill-room.net/wp-content/uploads/2016/09/neo-geo01.jpg
END:VEVENT
END:VCALENDAR