BEGIN:VCALENDAR
VERSION:2.0
PRODID:-//Just a chill room - ECPv6.0.13.1//NONSGML v1.0//EN
CALSCALE:GREGORIAN
METHOD:PUBLISH
X-WR-CALNAME:Just a chill room
X-ORIGINAL-URL:https://just-a-chill-room.net
X-WR-CALDESC:Events for Just a chill room
REFRESH-INTERVAL;VALUE=DURATION:PT1H
X-Robots-Tag:noindex
X-PUBLISHED-TTL:PT1H
BEGIN:VTIMEZONE
TZID:UTC
BEGIN:STANDARD
TZOFFSETFROM:+0000
TZOFFSETTO:+0000
TZNAME:UTC
DTSTART:20150101T000000
END:STANDARD
END:VTIMEZONE
BEGIN:VEVENT
DTSTART;TZID=UTC:20151005T050000
DTEND;TZID=UTC:20151005T180000
DTSTAMP:20260424T034650
CREATED:20151005T153602Z
LAST-MODIFIED:20151005T153602Z
UID:2446-1444021200-1444068000@just-a-chill-room.net
SUMMARY:EP Showcase: NUDE - Naturalness
DESCRIPTION:Today on October 5th\, we are hosting our first Dubtrack.fm event! \nJoin us at 7 PM CEST / 1 PM EST / 5 PM UTC as NUDE is showcasing his latest EP “Naturalness” out since September 28th via Moose Records! \n\nBandcamp \nFacebook
URL:https://just-a-chill-room.net/event/ep-showcase-nude-naturalness/
CATEGORIES:Showcase
ATTACH;FMTTYPE=image/jpeg:https://just-a-chill-room.net/wp-content/uploads/2015/10/Visuel.jpg
END:VEVENT
END:VCALENDAR