BEGIN:VCALENDAR
VERSION:2.0
PRODID:-//Just a chill room - ECPv6.0.13.1//NONSGML v1.0//EN
CALSCALE:GREGORIAN
METHOD:PUBLISH
X-WR-CALNAME:Just a chill room
X-ORIGINAL-URL:https://just-a-chill-room.net
X-WR-CALDESC:Events for Just a chill room
REFRESH-INTERVAL;VALUE=DURATION:PT1H
X-Robots-Tag:noindex
X-PUBLISHED-TTL:PT1H
BEGIN:VTIMEZONE
TZID:UTC
BEGIN:STANDARD
TZOFFSETFROM:+0000
TZOFFSETTO:+0000
TZNAME:UTC
DTSTART:20150101T000000
END:STANDARD
END:VTIMEZONE
BEGIN:VEVENT
DTSTART;TZID=UTC:20150909T180000
DTEND;TZID=UTC:20150909T190000
DTSTAMP:20260424T053134
CREATED:20150909T133503Z
LAST-MODIFIED:20150909T172708Z
UID:2325-1441821600-1441825200@just-a-chill-room.net
SUMMARY:Album Showcase: Lapa - Meeting Of The Waters
DESCRIPTION:Join us this Wednesday September 9th at 6 PM UTC / 2 PM EST / 8 PM CEST\, to welcome Ilya from Emancipator for the showcase of his first solo album: “Meeting Of The Waters” available via Loci Records! \nBandcamp \nLapa
URL:https://just-a-chill-room.net/event/album-showcase-lapa-meeting-of-the-waters/
CATEGORIES:Showcase
ATTACH;FMTTYPE=image/jpeg:https://just-a-chill-room.net/wp-content/uploads/2015/09/lapalisteningparty.jpg
END:VEVENT
BEGIN:VEVENT
DTSTART;TZID=UTC:20150910T200000
DTEND;TZID=UTC:20150910T210000
DTSTAMP:20260424T053134
CREATED:20150910T172552Z
LAST-MODIFIED:20150910T190825Z
UID:2347-1441915200-1441918800@just-a-chill-room.net
SUMMARY:Album Showcase: RESONATA - Forever Isn't For Everyone
DESCRIPTION:On Thursday 10th\, RESONATA will come showcase his latest album “Forever Isn’t For Everyone out the same day at Left Of Field Records ! \nJoin us at 1 PM PDT / 8 PM UTC / 10 PM CEST for the event !
URL:https://just-a-chill-room.net/event/album-showcase-resonata-forever-isnt-for-everyone/
CATEGORIES:Showcase
ATTACH;FMTTYPE=image/jpeg:https://just-a-chill-room.net/wp-content/uploads/2015/09/11836920_979857832036020_8554728699390081989_n2.jpg
END:VEVENT
BEGIN:VEVENT
DTSTART;TZID=UTC:20150914T193000
DTEND;TZID=UTC:20150914T203000
DTSTAMP:20260424T053134
CREATED:20150909T133241Z
LAST-MODIFIED:20150911T081159Z
UID:2327-1442259000-1442262600@just-a-chill-room.net
SUMMARY:Album Showcase: The Digital Connection - Chasing The Midnight Sky
DESCRIPTION:Notice: Due to unforeseen circumstances the event has been postponed! \nWe are very happy to welcome The Digital Connection once again in our room! \nThis time he will showcase his album “Chasing The Midnight Sky” out on September 8th via Gravitas Recordings. \nCome and join us for a downtempo session Sunday 13th at 1 PM MDT / 7 PM UTC / 9 PM CEST Monday the 14th\, 1.30pm MDT / 7.30pm UTC / 9.30pm CEST ! \nBandcamp
URL:https://just-a-chill-room.net/event/album-showcase-the-digital-connection-chasing-the-midnight-sky/
CATEGORIES:Showcase
ATTACH;FMTTYPE=image/jpeg:https://just-a-chill-room.net/wp-content/uploads/2015/09/thedigitalconnection02.jpg
END:VEVENT
END:VCALENDAR