BEGIN:VCALENDAR
VERSION:2.0
PRODID:-//Just a chill room - ECPv6.0.13.1//NONSGML v1.0//EN
CALSCALE:GREGORIAN
METHOD:PUBLISH
X-WR-CALNAME:Just a chill room
X-ORIGINAL-URL:https://just-a-chill-room.net
X-WR-CALDESC:Events for Just a chill room
REFRESH-INTERVAL;VALUE=DURATION:PT1H
X-Robots-Tag:noindex
X-PUBLISHED-TTL:PT1H
BEGIN:VTIMEZONE
TZID:UTC
BEGIN:STANDARD
TZOFFSETFROM:+0000
TZOFFSETTO:+0000
TZNAME:UTC
DTSTART:20170101T000000
END:STANDARD
END:VTIMEZONE
BEGIN:VEVENT
DTSTART;TZID=UTC:20170728T170000
DTEND;TZID=UTC:20170730T230000
DTSTAMP:20260422T165431
CREATED:20170730T123642Z
LAST-MODIFIED:20170730T124002Z
UID:3316-1501261200-1501455600@just-a-chill-room.net
SUMMARY:JACR 5th Anniversary Celebration
DESCRIPTION:It’s hard to believe yet it remains true: We’re already celebrating our 5th birthday as Just a chill room! What started back in 2012 on plug.dj and nowadays takes place on dubtrack.fm is still going strong. We still have  a wonderful (albeit smaller) community with magnificent people that share a lot of fantastic tunes. From July 28th to July 30th we’re going to celebrate this fact with a three day long event\, with the third day being dedicated to our community. Make sure to stop by and chill with us for a while! \nFlyer July 28th \nFlyer July 29th \nFlyer July 30th
URL:https://just-a-chill-room.net/event/5th-anniversary/
LOCATION:Just a chill room…
CATEGORIES:Major Event
ATTACH;FMTTYPE=image/jpeg:https://just-a-chill-room.net/wp-content/uploads/2017/07/anniversary-flyer10_pre.jpg
END:VEVENT
END:VCALENDAR