BEGIN:VCALENDAR
VERSION:2.0
PRODID:-//Just a chill room - ECPv6.0.13.1//NONSGML v1.0//EN
CALSCALE:GREGORIAN
METHOD:PUBLISH
X-ORIGINAL-URL:https://just-a-chill-room.net
X-WR-CALDESC:Events for Just a chill room
REFRESH-INTERVAL;VALUE=DURATION:PT1H
X-Robots-Tag:noindex
X-PUBLISHED-TTL:PT1H
BEGIN:VTIMEZONE
TZID:UTC
BEGIN:STANDARD
TZOFFSETFROM:+0000
TZOFFSETTO:+0000
TZNAME:UTC
DTSTART:20150101T000000
END:STANDARD
END:VTIMEZONE
BEGIN:VEVENT
DTSTART;TZID=UTC:20150726T080000
DTEND;TZID=UTC:20150809T170000
DTSTAMP:20260424T051305
CREATED:20150714T141324Z
LAST-MODIFIED:20151005T194021Z
UID:2172-1437897600-1439139600@just-a-chill-room.net
SUMMARY:Just a chill room presents: 3rd Year Anniversary Event
DESCRIPTION:It’s that time of year again! We’re turning 3!\nCome and celebrate with us on 3 occasions: \nJuly 26th – 4pm CDT / 9pm UTC\nAugust 2nd – 1.30pm CEST / 11.30am UTC\nAugust 9th – 3pm AEST / 5am UTC
URL:https://just-a-chill-room.net/event/3rd-year-anniversary-event/
LOCATION:Just a chill room…
CATEGORIES:Major Event
ATTACH;FMTTYPE=image/png:https://just-a-chill-room.net/wp-content/uploads/2015/07/3rd-anniversary04.png
END:VEVENT
BEGIN:VEVENT
DTSTART;TZID=UTC:20150726T150000
DTEND;TZID=UTC:20150726T235500
DTSTAMP:20260424T051305
CREATED:20150721T202030Z
LAST-MODIFIED:20150726T114429Z
UID:2205-1437922800-1437954900@just-a-chill-room.net
SUMMARY:Anniversary Event: 1st Part - America
DESCRIPTION:The first part of our 3rd anniversary celebrations. Tailored for US timezones. Make sure to be there\, it’ll be phenomenal! \n  \nTimeline\n\nAeuria 10:00 AM CDT / 3:00 PM UTC\nbreak. 10:30 AM CDT / 3:30 PM UTC\nResonata 11:00 AM CDT / 4:00 PM UTC\nArkasia 11:30 AM CDT / 4:30 PM UTC\nWe Are All Astronauts 12:00 PM CDT / 5:00 PM UTC\nMichael St-Laurent 12:30 PM CDT / 5:30 PM UTC\nAYER 1:00 PM CDT / 6:00 PM UTC\nAlaskan Tapes 1:30 PM CDT / 6:30 PM UTC\nA Cerulean State 2:00 PM CDT / 7:00 PM UTC\nSnowday 2:30 PM CDT / 7:30 PM UTC\nAlicks 3:00 PM CDT / 8:00 PM UTC\nOneira 3:30 PM CDT / 8:30 PM UTC\nSoular Order 4:00 PM CDT / 9:00 PM UTC\nMatt Vice 4:30 PM CDT / 9:30 PM UTC\nMaHi 5:00 PM CDT / 10:00 PM UTC\nMitiS 5:30 PM CDT / 10:30 PM UTC\nImagined Herbal Flows 6:00 PM CDT / 11:00 PM UTC\nArkana 6:30 PM CDT / 11:30 PM UTC\nDirect 7:00 PM CDT / 12:00 AM UTC\nCrystal Skies 7:30 PM CDT / 12:30 AM UTC\nSolar Heavy 8:00 PM CDT / 1:00 AM UTC\nNYTE 8:30 PM CDT / 1:30 AM UTC\nMadi Larson 9:00 PM CDT / 2:00 AM UTC\n26CARAT 9:30 PM CDT / 2:30 AM UTC\nArk Patrol 10:00 PM CDT / 3:00 AM UTC\nA Sol Mechanic 10:30 PM CDT / 3:30 AM UTC\nEdamame 11:00 PM CDT / 4:00 AM UTC\nP.SUS 11:30 PM CDT / 4:30 AM UTC\nEvence 12:00 AM CDT / 5:00 AM UTC\nKozoro 12:30 AM CDT / 5:30 AM UTC\nKlrx 1:00 AM CDT / 6:00 AM UTC\n\nLineup still subject to change.
URL:https://just-a-chill-room.net/event/3rd-anniversary-part1/
LOCATION:Just a chill room…
CATEGORIES:Major Event,Showcase
ATTACH;FMTTYPE=image/png:https://just-a-chill-room.net/wp-content/uploads/2015/07/3rd-anniversary01_Part01-031.png
END:VEVENT
END:VCALENDAR