BEGIN:VCALENDAR
VERSION:2.0
PRODID:-//Just a chill room - ECPv6.0.13.1//NONSGML v1.0//EN
CALSCALE:GREGORIAN
METHOD:PUBLISH
X-ORIGINAL-URL:https://just-a-chill-room.net
X-WR-CALDESC:Events for Just a chill room
REFRESH-INTERVAL;VALUE=DURATION:PT1H
X-Robots-Tag:noindex
X-PUBLISHED-TTL:PT1H
BEGIN:VTIMEZONE
TZID:UTC
BEGIN:STANDARD
TZOFFSETFROM:+0000
TZOFFSETTO:+0000
TZNAME:UTC
DTSTART:20150101T000000
END:STANDARD
END:VTIMEZONE
BEGIN:VEVENT
DTSTART;TZID=UTC:20150517T170000
DTEND;TZID=UTC:20150517T210000
DTSTAMP:20260424T080242
CREATED:20150512T213124Z
LAST-MODIFIED:20150512T213243Z
UID:2014-1431882000-1431896400@just-a-chill-room.net
SUMMARY:Ambient Musical Genre Event
DESCRIPTION:Join us this sunday at 7:00pm CET (GMT+2) / 1:00pm EST in chill-room.net for an Ambient Musical Genre Event with Subsets\, 4lientic\, Mvnners\, We Are All Astronauts\, Speria\, Stray Theories\, Owsey\, and Chasing Dreams.\nAmbient Musical Genre Lineup:\n1. Subsets\n2. 4lienetic\n3. Mvnners\n4. We Are All Astronauts\n5. Spheria\n6. Stray Theories\n7. Owsey\n8. Chasing Dreams\n9. AmbientMusicalGenre \n  \nAmbientMusicalGenre \nhttps://youtube.com/AmbientMusicalGenre \nhttps://soundcloud.com/ambientmusicalgenre \nhttps://facebook.com/AmbientMusicalGenre \n 
URL:https://just-a-chill-room.net/event/ambient-musical-genre-event/
LOCATION:Just a chill room…
CATEGORIES:Major Event
ATTACH;FMTTYPE=image/jpeg:https://just-a-chill-room.net/wp-content/uploads/2015/05/Ambient-Event-Preview2.jpg
END:VEVENT
END:VCALENDAR