BEGIN:VCALENDAR
VERSION:2.0
PRODID:-//Just a chill room - ECPv6.0.13.1//NONSGML v1.0//EN
CALSCALE:GREGORIAN
METHOD:PUBLISH
X-ORIGINAL-URL:https://just-a-chill-room.net
X-WR-CALDESC:Events for Just a chill room
REFRESH-INTERVAL;VALUE=DURATION:PT1H
X-Robots-Tag:noindex
X-PUBLISHED-TTL:PT1H
BEGIN:VTIMEZONE
TZID:UTC
BEGIN:STANDARD
TZOFFSETFROM:+0000
TZOFFSETTO:+0000
TZNAME:UTC
DTSTART:20150101T000000
END:STANDARD
END:VTIMEZONE
BEGIN:VEVENT
DTSTART;TZID=UTC:20150222T180000
DTEND;TZID=UTC:20150222T230000
DTSTAMP:20260424T124208
CREATED:20150215T192458Z
LAST-MODIFIED:20150507T135026Z
UID:1648-1424628000-1424646000@just-a-chill-room.net
SUMMARY:Ambient Places: an ambient event
DESCRIPTION:On February 22nd we will host an ambient event called “Ambient Places”. Join us at 6pm UTC/GMT on Sunday and get absorbed by soothing sounds of artists such as Chasing Dreams\, Stray Theories and Levi Patel. \n \nBe aware though\, the lineup is still subject to changes. The current timetable (UTC/GMT): \n\n6pm The Walton Hoax\n6.30pm O S L O\n7pm Lights Dim\n7.45pm hvrxld\n8.15pm Stray Theories\n8.45pm Levi Patel\n9.15pm Good Weather For An Airstrike\n9.45pm Chasing Dreams\n10.15pm Live Slower\n10.45pm Snowday\n11.15pm glo\n11.45pm Vassh
URL:https://just-a-chill-room.net/event/ambient-places/
LOCATION:Just a chill room…
CATEGORIES:Major Event
ATTACH;FMTTYPE=image/jpeg:https://just-a-chill-room.net/wp-content/uploads/2015/02/ambient-event06-04.jpg
END:VEVENT
END:VCALENDAR