BEGIN:VCALENDAR
VERSION:2.0
PRODID:-//Just a chill room - ECPv6.0.13.1//NONSGML v1.0//EN
CALSCALE:GREGORIAN
METHOD:PUBLISH
X-WR-CALNAME:Just a chill room
X-ORIGINAL-URL:https://just-a-chill-room.net
X-WR-CALDESC:Events for Just a chill room
REFRESH-INTERVAL;VALUE=DURATION:PT1H
X-Robots-Tag:noindex
X-PUBLISHED-TTL:PT1H
BEGIN:VTIMEZONE
TZID:UTC
BEGIN:STANDARD
TZOFFSETFROM:+0000
TZOFFSETTO:+0000
TZNAME:UTC
DTSTART:20140101T000000
END:STANDARD
END:VTIMEZONE
BEGIN:VEVENT
DTSTART;TZID=UTC:20141031T180000
DTEND;TZID=UTC:20141101T040000
DTSTAMP:20260424T164533
CREATED:20141215T160626Z
LAST-MODIFIED:20141215T160626Z
UID:1208-1414778400-1414814400@just-a-chill-room.net
SUMMARY:Halloween Event: A Day Of Darkness
DESCRIPTION:Just a chill room will be holding their first Halloween event: “A Day of Darkness”. On October 31st\, from 7pm (GMT+1) until 5am Nov 1st\, engulf yourself in non-stop\, monstrous and murky music. Play songs from your own dark playlist for everyone\, and draw out the shadows.
URL:https://just-a-chill-room.net/event/halloween-event-a-day-of-darkness/
LOCATION:Just a chill room…
CATEGORIES:Major Event
ATTACH;FMTTYPE=image/png:https://just-a-chill-room.net/wp-content/uploads/2014/10/Spooky-flyer.png
END:VEVENT
END:VCALENDAR