BEGIN:VCALENDAR
VERSION:2.0
PRODID:-//Just a chill room - ECPv6.0.13.1//NONSGML v1.0//EN
CALSCALE:GREGORIAN
METHOD:PUBLISH
X-ORIGINAL-URL:https://just-a-chill-room.net
X-WR-CALDESC:Events for Just a chill room
REFRESH-INTERVAL;VALUE=DURATION:PT1H
X-Robots-Tag:noindex
X-PUBLISHED-TTL:PT1H
BEGIN:VTIMEZONE
TZID:UTC
BEGIN:STANDARD
TZOFFSETFROM:+0000
TZOFFSETTO:+0000
TZNAME:UTC
DTSTART:20140101T000000
END:STANDARD
END:VTIMEZONE
BEGIN:VEVENT
DTSTART;TZID=UTC:20140829T200000
DTEND;TZID=UTC:20140829T213000
DTSTAMP:20260424T203641
CREATED:20141215T160104Z
LAST-MODIFIED:20141215T160104Z
UID:1202-1409342400-1409347800@just-a-chill-room.net
SUMMARY:Taking You Higher\, Part III
DESCRIPTION:If plug.dj is up tomorrow\, MrSuicideSheep will present a new mix for your listening pleasure\, mixed by Aaron Static. Taking You Higher\, Part III. It’s set to start at 1PM PDT/8PM GMT. That’s tomorrow! Friday August 29\, 2014.
URL:https://just-a-chill-room.net/event/taking-you-higher-part-iii/
LOCATION:Just a chill room…
CATEGORIES:Major Event
ATTACH;FMTTYPE=image/jpeg:https://just-a-chill-room.net/wp-content/uploads/2014/08/10428237_540696915966788_3257018386665523135_o.jpg
END:VEVENT
END:VCALENDAR