BEGIN:VCALENDAR
VERSION:2.0
PRODID:-//Just a chill room - ECPv6.0.13.1//NONSGML v1.0//EN
CALSCALE:GREGORIAN
METHOD:PUBLISH
X-WR-CALNAME:Just a chill room
X-ORIGINAL-URL:https://just-a-chill-room.net
X-WR-CALDESC:Events for Just a chill room
REFRESH-INTERVAL;VALUE=DURATION:PT1H
X-Robots-Tag:noindex
X-PUBLISHED-TTL:PT1H
BEGIN:VTIMEZONE
TZID:UTC
BEGIN:STANDARD
TZOFFSETFROM:+0000
TZOFFSETTO:+0000
TZNAME:UTC
DTSTART:20140101T000000
END:STANDARD
END:VTIMEZONE
BEGIN:VEVENT
DTSTART;TZID=UTC:20140728T063000
DTEND;TZID=UTC:20140729T070000
DTSTAMP:20260424T203508
CREATED:20141215T155903Z
LAST-MODIFIED:20141215T155903Z
UID:1200-1406529000-1406617200@just-a-chill-room.net
SUMMARY:July 28th: 2 Years Anniversary Event
DESCRIPTION:Hey everyone! \nAs some of you might have noticed\, on the 28th of July we will be celebrating the second anniversary of our beloved chill room! \n  \nTo celebrate this milestone and thank each and every one of you for showing your love all this time\, we’ve been harassing every resident DJ in our room to come and play a mix! \n  \nThe festivities will start at 6.30 am GMT/UTC on Monday 28/07 and will last until 7 am GMT/UTC\, Tuesday 29/07\, so clear your schedule\, call in sick\, or just lock yourself up in your house and come hang with us!
URL:https://just-a-chill-room.net/event/july-28th-2-years-anniversary-event/
LOCATION:Just a chill room…
CATEGORIES:Major Event
ATTACH;FMTTYPE=image/jpeg:https://just-a-chill-room.net/wp-content/uploads/2014/07/birthdayevent01_publicversion10.jpg
END:VEVENT
END:VCALENDAR