BEGIN:VCALENDAR
VERSION:2.0
PRODID:-//Just a chill room - ECPv6.0.13.1//NONSGML v1.0//EN
CALSCALE:GREGORIAN
METHOD:PUBLISH
X-ORIGINAL-URL:https://just-a-chill-room.net
X-WR-CALDESC:Events for Just a chill room
REFRESH-INTERVAL;VALUE=DURATION:PT1H
X-Robots-Tag:noindex
X-PUBLISHED-TTL:PT1H
BEGIN:VTIMEZONE
TZID:UTC
BEGIN:STANDARD
TZOFFSETFROM:+0000
TZOFFSETTO:+0000
TZNAME:UTC
DTSTART:20150101T000000
END:STANDARD
END:VTIMEZONE
BEGIN:VEVENT
DTSTART;TZID=UTC:20151107T190000
DTEND;TZID=UTC:20151108T010000
DTSTAMP:20260423T220644
CREATED:20151029T205431Z
LAST-MODIFIED:20151102T215916Z
UID:2515-1446922800-1446944400@just-a-chill-room.net
SUMMARY:Sekai Collective Release Party
DESCRIPTION:We are extremely happy to announce our first big event since our anniversary.\nFor this\, we’ve teamed up with the Sekai Collective to celebrate the release of the Sekai Volume 1 album available very soon on the label’s Bandcamp \n\nAnd with this event we will welcome a lot of new artists as well as some of our old resident DJs: Enzalla\, 4lienetic\, The Aurora Principle\, Subsets\, Swept Away\, Poztman\, A Cerulean State\, Satori\, Eternity\, Covex\, Autodream\, Asiah and Raine. \nMake sure you tune in Saturday 7th at 7 PM UTC / 8 PM CET / 12 PM PDT!
URL:https://just-a-chill-room.net/event/sekai-collective-release-party/
CATEGORIES:Major Event
ATTACH;FMTTYPE=image/jpeg:https://just-a-chill-room.net/wp-content/uploads/2015/10/sekai-05.jpg
END:VEVENT
END:VCALENDAR